BEGIN:VCALENDAR
VERSION:2.0
PRODID:-//Plone.org//NONSGML plone.app.event//EN
X-WR-TIMEZONE:Brazil/East
BEGIN:VEVENT
SUMMARY:EXPOSIÇÃO FOTOGRÁFICA "BELEZA NEGRA".
DTSTART;TZID=Brazil/East;VALUE=DATE-TIME:20191111T080000
DTEND;TZID=Brazil/East;VALUE=DATE-TIME:20191111T180000
DTSTAMP;VALUE=DATE-TIME:20260424T052604Z
UID:b5a906513a004cd2abb1178e8d426f6b@www.goiania.go.leg.br
CONTACT:VEREADORA DRA. CRISTINA LOPES AFONSO
CREATED;VALUE=DATE-TIME:20191002T104435Z
LAST-MODIFIED;VALUE=DATE-TIME:20191002T104441Z
LOCATION:HALL DE ENTRADA
URL:https://www.goiania.go.leg.br/sala-de-imprensa/eventos/exposicao-fotog
 rafica-beleza-negra
END:VEVENT
BEGIN:VTIMEZONE
TZID:Brazil/East
X-LIC-LOCATION:Brazil/East
BEGIN:DAYLIGHT
DTSTART;VALUE=DATE-TIME:20191020T010000
TZNAME:BRST
TZOFFSETFROM:-0300
TZOFFSETTO:-0200
END:DAYLIGHT
END:VTIMEZONE
END:VCALENDAR
