BEGIN:VCALENDAR
VERSION:2.0
PRODID:-//Plone.org//NONSGML plone.app.event//EN
X-WR-TIMEZONE:Brazil/East
BEGIN:VEVENT
SUMMARY:EXPOSIÇÃO EM RELAÇÃO A VISIBILIDADE TRANS.
DTSTART;TZID=Brazil/East;VALUE=DATE-TIME:20230206T070000
DTEND;TZID=Brazil/East;VALUE=DATE-TIME:20230210T200000
DTSTAMP;VALUE=DATE-TIME:20260420T063216Z
UID:a3a7b446d66c47f6bce02816a688465e@www.goiania.go.leg.br
CONTACT:VEREADORA SABRINA GARCEZ
CREATED;VALUE=DATE-TIME:20230207T131006Z
LAST-MODIFIED;VALUE=DATE-TIME:20230207T131020Z
LOCATION:HALL DE ENTRADA DESTA CASA DE LEIS
URL:https://www.goiania.go.leg.br/sala-de-imprensa/eventos/exposicao-em-re
 lacao-a-visibilidade-trans
END:VEVENT
BEGIN:VTIMEZONE
TZID:Brazil/East
X-LIC-LOCATION:Brazil/East
BEGIN:DAYLIGHT
DTSTART;VALUE=DATE-TIME:20221016T010000
TZNAME:BRST
TZOFFSETFROM:-0300
TZOFFSETTO:-0200
END:DAYLIGHT
END:VTIMEZONE
END:VCALENDAR
