BEGIN:VCALENDAR
VERSION:2.0
PRODID:-//Plone.org//NONSGML plone.app.event//EN
X-WR-TIMEZONE:Brazil/East
BEGIN:VEVENT
SUMMARY:EXPOSIÇÃO DOS QUADROS DO ARTISTA PLÁSTICO GOIANO JULLYANDERSON 
 CARVALHO.
DTSTART;TZID=Brazil/East;VALUE=DATE-TIME:20191218T080000
DTEND;TZID=Brazil/East;VALUE=DATE-TIME:20191218T180000
DTSTAMP;VALUE=DATE-TIME:20260421T151707Z
UID:0e6ab5a5562d480d9fa752005e2aad7b@www.goiania.go.leg.br
CONTACT:VEREADORA SABRINA GARCÊZ
CREATED;VALUE=DATE-TIME:20191129T222516Z
LAST-MODIFIED;VALUE=DATE-TIME:20191129T222521Z
LOCATION:HALL DE ENTRADA
URL:https://www.goiania.go.leg.br/sala-de-imprensa/eventos/exposicao-dos-q
 uadros-do-artista-plastico-goiano-jullyanderson-carvalho-7
END:VEVENT
BEGIN:VTIMEZONE
TZID:Brazil/East
X-LIC-LOCATION:Brazil/East
BEGIN:DAYLIGHT
DTSTART;VALUE=DATE-TIME:20191020T010000
TZNAME:BRST
TZOFFSETFROM:-0300
TZOFFSETTO:-0200
END:DAYLIGHT
END:VTIMEZONE
END:VCALENDAR
