BEGIN:VCALENDAR
VERSION:2.0
PRODID:-//Plone.org//NONSGML plone.app.event//EN
X-WR-TIMEZONE:Brazil/East
BEGIN:VEVENT
SUMMARY:EXPOSIÇÃO DO PROJETO INCLUARTE.
DTSTART;TZID=Brazil/East;VALUE=DATE-TIME:20261130T080000
DTEND;TZID=Brazil/East;VALUE=DATE-TIME:20261214T180000
DTSTAMP;VALUE=DATE-TIME:20260422T052337Z
UID:64c6cb440da74aebbaedcc705021847d@www.goiania.go.leg.br
CONTACT:VEREADOR  WELTON LEMOS
CREATED;VALUE=DATE-TIME:20260226T131233Z
LAST-MODIFIED;VALUE=DATE-TIME:20260226T132524Z
LOCATION:ESPAÇO CÉLIA CÂMARA
URL:https://www.goiania.go.leg.br/sala-de-imprensa/eventos/exposicao-do-pr
 ojeto-incluarte
END:VEVENT
BEGIN:VTIMEZONE
TZID:Brazil/East
X-LIC-LOCATION:Brazil/East
BEGIN:DAYLIGHT
DTSTART;VALUE=DATE-TIME:20261018T010000
TZNAME:BRST
TZOFFSETFROM:-0300
TZOFFSETTO:-0200
END:DAYLIGHT
END:VTIMEZONE
END:VCALENDAR
