BEGIN:VCALENDAR
VERSION:2.0
PRODID:-//Plone.org//NONSGML plone.app.event//EN
X-WR-TIMEZONE:Brazil/East
BEGIN:VEVENT
SUMMARY:EXPOSIÇÃO DO DIA INTERNACIONAL DA MULHER.
DTSTART;TZID=Brazil/East;VALUE=DATE-TIME:20180305T080000
DTEND;TZID=Brazil/East;VALUE=DATE-TIME:20180305T180000
DTSTAMP;VALUE=DATE-TIME:20260422T035556Z
UID:77d01db9be8042e2a576beb9fa3446dc@www.goiania.go.leg.br
CONTACT:VEREADOR ANSELMO PEREIRA
CREATED;VALUE=DATE-TIME:20180208T132617Z
LAST-MODIFIED;VALUE=DATE-TIME:20180208T132705Z
LOCATION:HALL DE ENTRADA
URL:https://www.goiania.go.leg.br/sala-de-imprensa/eventos/exposicao-do-di
 a-internacional-da-mulher
END:VEVENT
BEGIN:VTIMEZONE
TZID:Brazil/East
X-LIC-LOCATION:Brazil/East
BEGIN:STANDARD
DTSTART;VALUE=DATE-TIME:20180217T230000
TZNAME:BRT
TZOFFSETFROM:-0200
TZOFFSETTO:-0300
END:STANDARD
END:VTIMEZONE
END:VCALENDAR
