BEGIN:VCALENDAR
VERSION:2.0
PRODID:-//Plone.org//NONSGML plone.app.event//EN
X-WR-TIMEZONE:Brazil/East
BEGIN:VEVENT
SUMMARY:EXPOSIÇÃO DE OBRAS FOTOGRÁFICAS DO CÉSIO 137.
DTSTART;TZID=Brazil/East;VALUE=DATE-TIME:20170911T080000
DTEND;TZID=Brazil/East;VALUE=DATE-TIME:20170911T180000
DTSTAMP;VALUE=DATE-TIME:20260421T231720Z
UID:dd6c1096055547efbbc06a67abdd0107@www.goiania.go.leg.br
CONTACT:VEREADOR ANDREY AZEREDO
CREATED;VALUE=DATE-TIME:20171208T111313Z
LAST-MODIFIED;VALUE=DATE-TIME:20171208T112940Z
LOCATION:HALL DE ENTRADA
URL:https://www.goiania.go.leg.br/sala-de-imprensa/eventos/exposicao-de-ob
 ras-fotograficas-do-cesio-137
END:VEVENT
BEGIN:VTIMEZONE
TZID:Brazil/East
X-LIC-LOCATION:Brazil/East
BEGIN:STANDARD
DTSTART;VALUE=DATE-TIME:20170218T230000
TZNAME:BRT
TZOFFSETFROM:-0200
TZOFFSETTO:-0300
END:STANDARD
END:VTIMEZONE
END:VCALENDAR
