BEGIN:VCALENDAR
VERSION:2.0
PRODID:-//Plone.org//NONSGML plone.app.event//EN
X-WR-TIMEZONE:Brazil/East
BEGIN:VEVENT
SUMMARY:EXPOSIÇÃO DE FOTOGRAFIAS E QUADROS DE VÁRIOS ARTISTAS EM HOMENA
 GEM AO MÊS DA CONSCIÊNCIA NEGRA.
DTSTART;TZID=Brazil/East;VALUE=DATE-TIME:20211116T080000
DTEND;TZID=Brazil/East;VALUE=DATE-TIME:20211126T180000
DTSTAMP;VALUE=DATE-TIME:20260421T214732Z
UID:f3e7532f755341c59f25cf62838e5b14@www.goiania.go.leg.br
CONTACT:VEREADOR MAURO RUBEM
CREATED;VALUE=DATE-TIME:20211014T151748Z
LAST-MODIFIED;VALUE=DATE-TIME:20211014T151757Z
LOCATION:HALL DE ENTRADA DA CÂMARA
URL:https://www.goiania.go.leg.br/sala-de-imprensa/eventos/exposicao-de-fo
 tografias-e-quadros-de-varios-artistas-em-homenagem-ao-mes-da-consciencia-
 negra
END:VEVENT
BEGIN:VTIMEZONE
TZID:Brazil/East
X-LIC-LOCATION:Brazil/East
BEGIN:DAYLIGHT
DTSTART;VALUE=DATE-TIME:20211017T010000
TZNAME:BRST
TZOFFSETFROM:-0300
TZOFFSETTO:-0200
END:DAYLIGHT
END:VTIMEZONE
END:VCALENDAR
