BEGIN:VCALENDAR
VERSION:2.0
PRODID:-//Plone.org//NONSGML plone.app.event//EN
X-WR-TIMEZONE:Brazil/East
BEGIN:VEVENT
SUMMARY:EXPOSIÇÃO DE FOTOGRAFIA "ECOS DA CIDADE: RETRATOS DE RESISTÊNCI
 A NAS OCUPAÇÕES URBANAS".
DTSTART;TZID=Brazil/East;VALUE=DATE-TIME:20241206T080000
DTEND;TZID=Brazil/East;VALUE=DATE-TIME:20241220T180000
DTSTAMP;VALUE=DATE-TIME:20260421T214726Z
UID:80e6d86b86234124853029bd992f209c@www.goiania.go.leg.br
CONTACT:CANAL CIDADANIA
CREATED;VALUE=DATE-TIME:20241204T123216Z
LAST-MODIFIED;VALUE=DATE-TIME:20241205T112144Z
LOCATION:HALL DE ENTRADA (ESPAÇO CULTURAL CÉLIA CÂMARA)
URL:https://www.goiania.go.leg.br/sala-de-imprensa/eventos/exposicao-de-fo
 tografia-ecos-da-cidade-retratos-de-resistencia-nas-ocupacoes-urbanas
END:VEVENT
BEGIN:VTIMEZONE
TZID:Brazil/East
X-LIC-LOCATION:Brazil/East
BEGIN:DAYLIGHT
DTSTART;VALUE=DATE-TIME:20241020T010000
TZNAME:BRST
TZOFFSETFROM:-0300
TZOFFSETTO:-0200
END:DAYLIGHT
END:VTIMEZONE
END:VCALENDAR
