BEGIN:VCALENDAR
VERSION:2.0
PRODID:-//Plone.org//NONSGML plone.app.event//EN
X-WR-TIMEZONE:Brazil/East
BEGIN:VEVENT
SUMMARY:EXPOSIÇÃO DE CULTURAS CONTEPORÂNEAS\, DE AUTORIA DO ARTISTA TIA
 GO PAIVA.
DTSTART;TZID=Brazil/East;VALUE=DATE-TIME:20251202T080000
DTEND;TZID=Brazil/East;VALUE=DATE-TIME:20251202T180000
DTSTAMP;VALUE=DATE-TIME:20260419T104941Z
UID:fbd9c173187246cab4959824ff75097b@www.goiania.go.leg.br
CONTACT:VEREADOR CORONEL URZEDA
CREATED;VALUE=DATE-TIME:20250908T131214Z
LAST-MODIFIED;VALUE=DATE-TIME:20250910T113650Z
LOCATION:HALL DE ENTRADA DESTA CASA DE LEIS
URL:https://www.goiania.go.leg.br/sala-de-imprensa/eventos/exposicao-de-cu
 lturas-conteporaneas-de-autoria-do-artista-tiago-paiva-1
END:VEVENT
BEGIN:VTIMEZONE
TZID:Brazil/East
X-LIC-LOCATION:Brazil/East
BEGIN:DAYLIGHT
DTSTART;VALUE=DATE-TIME:20251019T010000
TZNAME:BRST
TZOFFSETFROM:-0300
TZOFFSETTO:-0200
END:DAYLIGHT
END:VTIMEZONE
END:VCALENDAR
