BEGIN:VCALENDAR
VERSION:2.0
PRODID:-//Plone.org//NONSGML plone.app.event//EN
X-WR-TIMEZONE:Brazil/East
BEGIN:VEVENT
SUMMARY:EXPOSIÇÃO DE CARROS ANTIGOS.
DTSTART;TZID=Brazil/East;VALUE=DATE-TIME:20250904T160000
DTEND;TZID=Brazil/East;VALUE=DATE-TIME:20250904T230000
DTSTAMP;VALUE=DATE-TIME:20260421T214602Z
UID:48bb380c4eef4e1bbe68211594f2282e@www.goiania.go.leg.br
CONTACT:VEREADOR LUCAS KITÃO
CREATED;VALUE=DATE-TIME:20250814T144111Z
LAST-MODIFIED;VALUE=DATE-TIME:20250814T144133Z
LOCATION:HALL DE ENTRADA DESTA CASA DE LEIS
URL:https://www.goiania.go.leg.br/sala-de-imprensa/eventos/exposicao-de-ca
 rros-antigos
END:VEVENT
BEGIN:VTIMEZONE
TZID:Brazil/East
X-LIC-LOCATION:Brazil/East
BEGIN:STANDARD
DTSTART;VALUE=DATE-TIME:20250215T230000
TZNAME:BRT
TZOFFSETFROM:-0200
TZOFFSETTO:-0300
END:STANDARD
END:VTIMEZONE
END:VCALENDAR
