BEGIN:VCALENDAR
VERSION:2.0
PRODID:-//Plone.org//NONSGML plone.app.event//EN
X-WR-TIMEZONE:Brazil/East
BEGIN:VEVENT
SUMMARY:EXPOSIÇÃO DE ARTESANATO DE BISCUIT EM VIDROS TRABALHO REALIZADO 
 PELA ASSOCIAÇÃO SERVOS DE CRISTO.
DTSTART;TZID=Brazil/East;VALUE=DATE-TIME:20160826T080000
DTEND;TZID=Brazil/East;VALUE=DATE-TIME:20160826T180000
DTSTAMP;VALUE=DATE-TIME:20260421T214726Z
UID:03863abdd5ec4c9db4d289238c13e5c4@www.goiania.go.leg.br
CONTACT:JÚLIO C. DA SILVEIRA PRADO
CREATED;VALUE=DATE-TIME:20171208T111312Z
LAST-MODIFIED;VALUE=DATE-TIME:20171208T112923Z
LOCATION:HALL DE ENTRADA
URL:https://www.goiania.go.leg.br/sala-de-imprensa/eventos/exposicao-de-ar
 tesanato-de-biscuit-em-vidros-trabalho-realizado-pela-associacao-servos-de
 -cristo-4
END:VEVENT
BEGIN:VTIMEZONE
TZID:Brazil/East
X-LIC-LOCATION:Brazil/East
BEGIN:STANDARD
DTSTART;VALUE=DATE-TIME:20160220T230000
TZNAME:BRT
TZOFFSETFROM:-0200
TZOFFSETTO:-0300
END:STANDARD
END:VTIMEZONE
END:VCALENDAR
