BEGIN:VCALENDAR
VERSION:2.0
PRODID:-//Plone.org//NONSGML plone.app.event//EN
X-WR-TIMEZONE:Brazil/East
BEGIN:VEVENT
SUMMARY:EXPOSIÇÃO DE ARTES.
DTSTART;TZID=Brazil/East;VALUE=DATE-TIME:20191105T080000
DTEND;TZID=Brazil/East;VALUE=DATE-TIME:20191105T180000
DTSTAMP;VALUE=DATE-TIME:20260421T210244Z
UID:47b992ff6e3f48369dd77d2b7ef9030b@www.goiania.go.leg.br
CONTACT:VEREADOR ROGÉRIO CRUZ
CREATED;VALUE=DATE-TIME:20191016T131810Z
LAST-MODIFIED;VALUE=DATE-TIME:20191016T131815Z
LOCATION:HALL DE FRENTE AO PLENÁRIO
URL:https://www.goiania.go.leg.br/sala-de-imprensa/eventos/exposicao-de-ar
 tes
END:VEVENT
BEGIN:VTIMEZONE
TZID:Brazil/East
X-LIC-LOCATION:Brazil/East
BEGIN:DAYLIGHT
DTSTART;VALUE=DATE-TIME:20191020T010000
TZNAME:BRST
TZOFFSETFROM:-0300
TZOFFSETTO:-0200
END:DAYLIGHT
END:VTIMEZONE
END:VCALENDAR
