BEGIN:VCALENDAR
VERSION:2.0
PRODID:-//Plone.org//NONSGML plone.app.event//EN
X-WR-TIMEZONE:Brazil/East
BEGIN:VEVENT
SUMMARY:EXPOSIÇÃO DE ARTES SACRAS E PINTURAS BAUER.
DTSTART;TZID=Brazil/East;VALUE=DATE-TIME:20190301T080000
DTEND;TZID=Brazil/East;VALUE=DATE-TIME:20190301T180000
DTSTAMP;VALUE=DATE-TIME:20260421T214609Z
UID:6f1c19c131bc463c8e95c8da578800b1@www.goiania.go.leg.br
CONTACT:VEREADOR ANSELMO PEREIRA
CREATED;VALUE=DATE-TIME:20190301T142820Z
LAST-MODIFIED;VALUE=DATE-TIME:20190301T142830Z
LOCATION:HALL DE ENTRADA
URL:https://www.goiania.go.leg.br/sala-de-imprensa/eventos/exposicao-de-ar
 tes-sacras-e-pinturas-bauer
END:VEVENT
BEGIN:VTIMEZONE
TZID:Brazil/East
X-LIC-LOCATION:Brazil/East
BEGIN:STANDARD
DTSTART;VALUE=DATE-TIME:20190216T230000
TZNAME:BRT
TZOFFSETFROM:-0200
TZOFFSETTO:-0300
END:STANDARD
END:VTIMEZONE
END:VCALENDAR
