BEGIN:VCALENDAR
VERSION:2.0
PRODID:-//Plone.org//NONSGML plone.app.event//EN
X-WR-TIMEZONE:Brazil/East
BEGIN:VEVENT
SUMMARY:EXPOSIÇÃO DE ARTES\, PINTURAS E ESCULTURAS DA ARTISTA: ANA MARIA
  ALMEIDA.
DTSTART;TZID=Brazil/East;VALUE=DATE-TIME:20211028T080000
DTEND;TZID=Brazil/East;VALUE=DATE-TIME:20211028T180000
DTSTAMP;VALUE=DATE-TIME:20260421T054333Z
UID:43fd16c0ff764e98a3d58404b11592d8@www.goiania.go.leg.br
CONTACT:VEREADOR MAURO RUBEM
CREATED;VALUE=DATE-TIME:20211026T194342Z
LAST-MODIFIED;VALUE=DATE-TIME:20211026T194359Z
LOCATION:GALERIA DOS PRESIDENTES
URL:https://www.goiania.go.leg.br/sala-de-imprensa/eventos/exposicao-de-ar
 tes-pinturas-e-esculturas-da-artista-ana-maria-almeida
END:VEVENT
BEGIN:VTIMEZONE
TZID:Brazil/East
X-LIC-LOCATION:Brazil/East
BEGIN:DAYLIGHT
DTSTART;VALUE=DATE-TIME:20211017T010000
TZNAME:BRST
TZOFFSETFROM:-0300
TZOFFSETTO:-0200
END:DAYLIGHT
END:VTIMEZONE
END:VCALENDAR
