BEGIN:VCALENDAR
VERSION:2.0
PRODID:-//Plone.org//NONSGML plone.app.event//EN
X-WR-TIMEZONE:Brazil/East
BEGIN:VEVENT
SUMMARY:EXPOSIÇÃO DE ARTES.
DTSTART;TZID=Brazil/East;VALUE=DATE-TIME:20191106T080000
DTEND;TZID=Brazil/East;VALUE=DATE-TIME:20191106T180000
DTSTAMP;VALUE=DATE-TIME:20260421T210319Z
UID:7a23a61e55754117be3c924d14dc2d5f@www.goiania.go.leg.br
CONTACT:VEREADOR ROGÉRIO CRUZ
CREATED;VALUE=DATE-TIME:20191016T131908Z
LAST-MODIFIED;VALUE=DATE-TIME:20191016T131913Z
LOCATION:HALL DE FRENTE AO PLENÁRIO
URL:https://www.goiania.go.leg.br/sala-de-imprensa/eventos/exposicao-de-ar
 tes-1
END:VEVENT
BEGIN:VTIMEZONE
TZID:Brazil/East
X-LIC-LOCATION:Brazil/East
BEGIN:DAYLIGHT
DTSTART;VALUE=DATE-TIME:20191020T010000
TZNAME:BRST
TZOFFSETFROM:-0300
TZOFFSETTO:-0200
END:DAYLIGHT
END:VTIMEZONE
END:VCALENDAR
