BEGIN:VCALENDAR
VERSION:2.0
PRODID:-//Plone.org//NONSGML plone.app.event//EN
X-WR-TIMEZONE:Brazil/East
BEGIN:VEVENT
SUMMARY:EXPOSIÇÃO DE ANIMAIS TAXIDERMIZADOS E PLANTAS DO CERRADO EM COME
 MORAÇÃO A SEMANA DO MEIO AMBIENTE.
DTSTART;TZID=Brazil/East;VALUE=DATE-TIME:20190605T080000
DTEND;TZID=Brazil/East;VALUE=DATE-TIME:20190605T180000
DTSTAMP;VALUE=DATE-TIME:20260421T184348Z
UID:260e3029bd3149a9bca8c64fecd0555d@www.goiania.go.leg.br
CONTACT:VEREADOR GUSTAVO CRUVINEL
CREATED;VALUE=DATE-TIME:20190402T124027Z
LAST-MODIFIED;VALUE=DATE-TIME:20190402T124036Z
LOCATION:HALL DE ENTRADA
URL:https://www.goiania.go.leg.br/sala-de-imprensa/eventos/exposicao-de-an
 imais-taxidermizados-e-plantas-do-cerrado-em-comemoracao-a-semana-do-meio-
 ambiente-1
END:VEVENT
BEGIN:VTIMEZONE
TZID:Brazil/East
X-LIC-LOCATION:Brazil/East
BEGIN:STANDARD
DTSTART;VALUE=DATE-TIME:20190216T230000
TZNAME:BRT
TZOFFSETFROM:-0200
TZOFFSETTO:-0300
END:STANDARD
END:VTIMEZONE
END:VCALENDAR
