BEGIN:VCALENDAR
VERSION:2.0
PRODID:-//Plone.org//NONSGML plone.app.event//EN
X-WR-TIMEZONE:Brazil/East
BEGIN:VEVENT
SUMMARY:EXPOSIÇÃO DE AMOSTRA ARTÍSTICAS EM PARCERIA  COM A COORDENAÇÃ
 O DE CULTURA.
DTSTART;TZID=Brazil/East;VALUE=DATE-TIME:20240826T080000
DTEND;TZID=Brazil/East;VALUE=DATE-TIME:20240913T180000
DTSTAMP;VALUE=DATE-TIME:20260419T120803Z
UID:9ef00c7bcbed4a63a840a8cd1a807f9c@www.goiania.go.leg.br
CONTACT:MILKA REZENDE
CREATED;VALUE=DATE-TIME:20240806T123408Z
LAST-MODIFIED;VALUE=DATE-TIME:20240806T123413Z
LOCATION:HALL DE ENTRADA DESTA CASA DE LEIS
URL:https://www.goiania.go.leg.br/sala-de-imprensa/eventos/exposicao-de-am
 ostra-artisticas-em-parceria-com-a-coordenacao-de-cultura
END:VEVENT
BEGIN:VTIMEZONE
TZID:Brazil/East
X-LIC-LOCATION:Brazil/East
BEGIN:STANDARD
DTSTART;VALUE=DATE-TIME:20240217T230000
TZNAME:BRT
TZOFFSETFROM:-0200
TZOFFSETTO:-0300
END:STANDARD
END:VTIMEZONE
END:VCALENDAR
