BEGIN:VCALENDAR
VERSION:2.0
PRODID:-//Plone.org//NONSGML plone.app.event//EN
X-WR-TIMEZONE:Brazil/East
BEGIN:VEVENT
SUMMARY:EXPOSIÇÃO DA FEIRA DOS ARTESÃOS.
DTSTART;TZID=Brazil/East;VALUE=DATE-TIME:20191009T080000
DTEND;TZID=Brazil/East;VALUE=DATE-TIME:20191009T170000
DTSTAMP;VALUE=DATE-TIME:20260421T200048Z
UID:3db308a81d77497690d9ef0dd7956039@www.goiania.go.leg.br
CONTACT:SUELÂNIA FELÍCIO DE ARAÚJO REIS
CREATED;VALUE=DATE-TIME:20190409T145251Z
LAST-MODIFIED;VALUE=DATE-TIME:20190409T145256Z
LOCATION:HALL DE ENTRADA
URL:https://www.goiania.go.leg.br/sala-de-imprensa/eventos/exposicao-da-fe
 ira-dos-artesaos-9
END:VEVENT
BEGIN:VTIMEZONE
TZID:Brazil/East
X-LIC-LOCATION:Brazil/East
BEGIN:STANDARD
DTSTART;VALUE=DATE-TIME:20190216T230000
TZNAME:BRT
TZOFFSETFROM:-0200
TZOFFSETTO:-0300
END:STANDARD
END:VTIMEZONE
END:VCALENDAR
