BEGIN:VCALENDAR
VERSION:2.0
PRODID:-//Plone.org//NONSGML plone.app.event//EN
X-WR-TIMEZONE:Brazil/East
BEGIN:VEVENT
SUMMARY:EXPOSIÇÃO DA FEIRA DOS ARTESÃOS.
DTSTART;TZID=Brazil/East;VALUE=DATE-TIME:20191107T080000
DTEND;TZID=Brazil/East;VALUE=DATE-TIME:20191107T170000
DTSTAMP;VALUE=DATE-TIME:20260423T065847Z
UID:3ef5f31949ba4b0bae7e8ecdf83f8ce9@www.goiania.go.leg.br
CONTACT:SUELÂNIA FELÍCIO DE ARAÚJO REIS
CREATED;VALUE=DATE-TIME:20190409T145504Z
LAST-MODIFIED;VALUE=DATE-TIME:20190409T145510Z
LOCATION:HALL DE ENTRADA
URL:https://www.goiania.go.leg.br/sala-de-imprensa/eventos/exposicao-da-fe
 ira-dos-artesaos-12
END:VEVENT
BEGIN:VTIMEZONE
TZID:Brazil/East
X-LIC-LOCATION:Brazil/East
BEGIN:DAYLIGHT
DTSTART;VALUE=DATE-TIME:20191020T010000
TZNAME:BRST
TZOFFSETFROM:-0300
TZOFFSETTO:-0200
END:DAYLIGHT
END:VTIMEZONE
END:VCALENDAR
