BEGIN:VCALENDAR
VERSION:2.0
PRODID:-//Plone.org//NONSGML plone.app.event//EN
X-WR-TIMEZONE:Brazil/East
BEGIN:VEVENT
SUMMARY:EXPOSIÇÃO DA FEIRA DOS ARTESÃOS.
DTSTART;TZID=Brazil/East;VALUE=DATE-TIME:20181120T080000
DTEND;TZID=Brazil/East;VALUE=DATE-TIME:20181120T170000
DTSTAMP;VALUE=DATE-TIME:20260423T082648Z
UID:c8956e2518be48cfa3420159c892726d@www.goiania.go.leg.br
CONTACT:VEREADORA SABRINA GARCÊZ
CREATED;VALUE=DATE-TIME:20181113T120118Z
LAST-MODIFIED;VALUE=DATE-TIME:20181113T120124Z
LOCATION:HALL DE ENTRADA
URL:https://www.goiania.go.leg.br/sala-de-imprensa/eventos/exposicao-da-fe
 ira-dos-artesaos-1
END:VEVENT
BEGIN:VTIMEZONE
TZID:Brazil/East
X-LIC-LOCATION:Brazil/East
BEGIN:DAYLIGHT
DTSTART;VALUE=DATE-TIME:20181021T010000
TZNAME:BRST
TZOFFSETFROM:-0300
TZOFFSETTO:-0200
END:DAYLIGHT
END:VTIMEZONE
END:VCALENDAR
