BEGIN:VCALENDAR
VERSION:2.0
PRODID:-//Plone.org//NONSGML plone.app.event//EN
X-WR-TIMEZONE:Brazil/East
BEGIN:VEVENT
SUMMARY:EXPOSIÇÃO DA ASSOCIAÇÃO DE EMPRESÁRIOS E EMPREENDEDORES PARA 
 FORTALECIMENTO DO AFRO EMPREENDEDORISMO.
DTSTART;TZID=Brazil/East;VALUE=DATE-TIME:20191023T080000
DTEND;TZID=Brazil/East;VALUE=DATE-TIME:20191023T170000
DTSTAMP;VALUE=DATE-TIME:20260421T171315Z
UID:8b9f5fc18f69491a896a01100a032263@www.goiania.go.leg.br
CONTACT:JOSÉ EDUARDO DA SILVA
CREATED;VALUE=DATE-TIME:20190510T111517Z
LAST-MODIFIED;VALUE=DATE-TIME:20190510T111525Z
LOCATION:HALL DE ENTRADA
URL:https://www.goiania.go.leg.br/sala-de-imprensa/eventos/exposicao-da-as
 sociacao-de-empresarios-e-empreendedores-para-fortalecimento-do-afro-empre
 endedorismo-5
END:VEVENT
BEGIN:VTIMEZONE
TZID:Brazil/East
X-LIC-LOCATION:Brazil/East
BEGIN:DAYLIGHT
DTSTART;VALUE=DATE-TIME:20191020T010000
TZNAME:BRST
TZOFFSETFROM:-0300
TZOFFSETTO:-0200
END:DAYLIGHT
END:VTIMEZONE
END:VCALENDAR
