BEGIN:VCALENDAR
VERSION:2.0
PRODID:-//Plone.org//NONSGML plone.app.event//EN
X-WR-TIMEZONE:Brazil/East
BEGIN:VEVENT
SUMMARY:EXPOSIÇÃO DA ASSOCIAÇÃO DE EMPRESÁRIOS E EMPREENDEDORES PARA 
 FORTALECIMENTO DO AFRO EMPREENDEDORISMO.
DTSTART;TZID=Brazil/East;VALUE=DATE-TIME:20190530T080000
DTEND;TZID=Brazil/East;VALUE=DATE-TIME:20190530T170000
DTSTAMP;VALUE=DATE-TIME:20260421T171314Z
UID:f7df5c91abc44823b086243433c4cf48@www.goiania.go.leg.br
CONTACT:JOSÉ EDUARDO DA SILVA
CREATED;VALUE=DATE-TIME:20190510T111034Z
LAST-MODIFIED;VALUE=DATE-TIME:20190510T111038Z
LOCATION:HALL DE ENTRADA
URL:https://www.goiania.go.leg.br/sala-de-imprensa/eventos/exposicao-da-as
 sociacao-de-empresarios-e-empreendedores-para-fortalecimento-do-afro-empre
 endedorismo-1
END:VEVENT
BEGIN:VTIMEZONE
TZID:Brazil/East
X-LIC-LOCATION:Brazil/East
BEGIN:STANDARD
DTSTART;VALUE=DATE-TIME:20190216T230000
TZNAME:BRT
TZOFFSETFROM:-0200
TZOFFSETTO:-0300
END:STANDARD
END:VTIMEZONE
END:VCALENDAR
