BEGIN:VCALENDAR
VERSION:2.0
PRODID:-//Plone.org//NONSGML plone.app.event//EN
X-WR-TIMEZONE:Brazil/East
BEGIN:VEVENT
SUMMARY:EXPOSIÇÃO CULTURAL CHINESA.
DTSTART;TZID=Brazil/East;VALUE=DATE-TIME:20231019T100000
DTEND;TZID=Brazil/East;VALUE=DATE-TIME:20231019T180000
DTSTAMP;VALUE=DATE-TIME:20260423T053959Z
UID:8817364e3cc54666ada34147ee7ca296@www.goiania.go.leg.br
CONTACT:VEREADOR LUCAS KITÃO
CREATED;VALUE=DATE-TIME:20231017T105045Z
LAST-MODIFIED;VALUE=DATE-TIME:20231017T105217Z
LOCATION:HALL DE ENTRADA DESTA CASA DE LEIS
URL:https://www.goiania.go.leg.br/sala-de-imprensa/eventos/exposicao-cultu
 ral-chinesa
END:VEVENT
BEGIN:VTIMEZONE
TZID:Brazil/East
X-LIC-LOCATION:Brazil/East
BEGIN:DAYLIGHT
DTSTART;VALUE=DATE-TIME:20231015T010000
TZNAME:BRST
TZOFFSETFROM:-0300
TZOFFSETTO:-0200
END:DAYLIGHT
END:VTIMEZONE
END:VCALENDAR
