BEGIN:VCALENDAR
VERSION:2.0
PRODID:-//Plone.org//NONSGML plone.app.event//EN
X-WR-TIMEZONE:Brazil/East
BEGIN:VEVENT
SUMMARY:EXPOSIÇÃO COM OS BENEFÍCIOS DA ESTÉTICA CORPORAL E FACIAL.
DTSTART;TZID=Brazil/East;VALUE=DATE-TIME:20180523T080000
DTEND;TZID=Brazil/East;VALUE=DATE-TIME:20180523T180000
DTSTAMP;VALUE=DATE-TIME:20260423T082732Z
UID:03107e34954044d7904004eb3dc7f9c1@www.goiania.go.leg.br
CONTACT:VEREADOR ZANDER FÁBIO
CREATED;VALUE=DATE-TIME:20180510T213958Z
LAST-MODIFIED;VALUE=DATE-TIME:20180510T214003Z
LOCATION:HALL DE ENTRADA
URL:https://www.goiania.go.leg.br/sala-de-imprensa/eventos/exposicao-com-o
 s-beneficios-da-estetica-corporal-e-facial-2
END:VEVENT
BEGIN:VTIMEZONE
TZID:Brazil/East
X-LIC-LOCATION:Brazil/East
BEGIN:STANDARD
DTSTART;VALUE=DATE-TIME:20180217T230000
TZNAME:BRT
TZOFFSETFROM:-0200
TZOFFSETTO:-0300
END:STANDARD
END:VTIMEZONE
END:VCALENDAR
