BEGIN:VCALENDAR
VERSION:2.0
PRODID:-//Plone.org//NONSGML plone.app.event//EN
X-WR-TIMEZONE:Brazil/East
BEGIN:VEVENT
SUMMARY:EXPOSIÇÃO COM OS BENEFÍCIOS DA ESTÉTICA CORPORAL E FACIAL.
DTSTART;TZID=Brazil/East;VALUE=DATE-TIME:20180522T080000
DTEND;TZID=Brazil/East;VALUE=DATE-TIME:20180522T180000
DTSTAMP;VALUE=DATE-TIME:20260421T171254Z
UID:d461097f8b204ce98963de814248e6e8@www.goiania.go.leg.br
CONTACT:VEREADOR ZANDER FÁBIO
CREATED;VALUE=DATE-TIME:20180510T213911Z
LAST-MODIFIED;VALUE=DATE-TIME:20180510T213919Z
LOCATION:HALL DE ENTRADA
URL:https://www.goiania.go.leg.br/sala-de-imprensa/eventos/exposicao-com-o
 s-beneficios-da-estetica-corporal-e-facial-1
END:VEVENT
BEGIN:VTIMEZONE
TZID:Brazil/East
X-LIC-LOCATION:Brazil/East
BEGIN:STANDARD
DTSTART;VALUE=DATE-TIME:20180217T230000
TZNAME:BRT
TZOFFSETFROM:-0200
TZOFFSETTO:-0300
END:STANDARD
END:VTIMEZONE
END:VCALENDAR
