BEGIN:VCALENDAR
VERSION:2.0
PRODID:-//Plone.org//NONSGML plone.app.event//EN
X-WR-TIMEZONE:Brazil/East
BEGIN:VEVENT
SUMMARY:EXPOSIÇÃO ARTÍSTICA DE QUADROS E ESCULTURAS DO PASTOR EVANGÉLI
 CO E ARTISTA ARNALDO LEÃO.
DTSTART;TZID=Brazil/East;VALUE=DATE-TIME:20190813T080000
DTEND;TZID=Brazil/East;VALUE=DATE-TIME:20190813T180000
DTSTAMP;VALUE=DATE-TIME:20260421T155112Z
UID:c5b4ff0a4c7244289b0113baba9a978f@www.goiania.go.leg.br
CONTACT:VEREADORA LÉIA KLEBIA
CREATED;VALUE=DATE-TIME:20190425T223035Z
LAST-MODIFIED;VALUE=DATE-TIME:20190425T223040Z
LOCATION:HALL DE ENTRADA
URL:https://www.goiania.go.leg.br/sala-de-imprensa/eventos/exposicao-artis
 tica-de-quadros-e-esculturas-do-pastor-evangelico-e-artista-arnaldo-leao-1
END:VEVENT
BEGIN:VTIMEZONE
TZID:Brazil/East
X-LIC-LOCATION:Brazil/East
BEGIN:STANDARD
DTSTART;VALUE=DATE-TIME:20190216T230000
TZNAME:BRT
TZOFFSETFROM:-0200
TZOFFSETTO:-0300
END:STANDARD
END:VTIMEZONE
END:VCALENDAR
