BEGIN:VCALENDAR
VERSION:2.0
PRODID:-//Plone.org//NONSGML plone.app.event//EN
X-WR-TIMEZONE:Brazil/East
BEGIN:VEVENT
SUMMARY:EXPOSIÇÃO ANUAL CORA CORALINA.
DTSTART;TZID=Brazil/East;VALUE=DATE-TIME:20190917T080000
DTEND;TZID=Brazil/East;VALUE=DATE-TIME:20190917T180000
DTSTAMP;VALUE=DATE-TIME:20260421T154330Z
UID:312fa316085b4227a7fa19602414db30@www.goiania.go.leg.br
CONTACT:PAULO CESAR FORNAZIER
CREATED;VALUE=DATE-TIME:20190828T221754Z
LAST-MODIFIED;VALUE=DATE-TIME:20190828T221800Z
LOCATION:HALL DE ENTRADA
URL:https://www.goiania.go.leg.br/sala-de-imprensa/eventos/exposicao-anual
 -cora-coralina
END:VEVENT
BEGIN:VTIMEZONE
TZID:Brazil/East
X-LIC-LOCATION:Brazil/East
BEGIN:STANDARD
DTSTART;VALUE=DATE-TIME:20190216T230000
TZNAME:BRT
TZOFFSETFROM:-0200
TZOFFSETTO:-0300
END:STANDARD
END:VTIMEZONE
END:VCALENDAR
