BEGIN:VCALENDAR
VERSION:2.0
PRODID:-//Plone.org//NONSGML plone.app.event//EN
X-WR-TIMEZONE:Brazil/East
BEGIN:VEVENT
SUMMARY:EXPOSIÇÃO "A ARTE VIVE O CENTRO".
DTSTART;TZID=Brazil/East;VALUE=DATE-TIME:20240222T080000
DTEND;TZID=Brazil/East;VALUE=DATE-TIME:20240229T180000
DTSTAMP;VALUE=DATE-TIME:20260421T154203Z
UID:14dd66299a924b92a81ffe2908aed1d7@www.goiania.go.leg.br
CONTACT:VEREADORA KATIA
CREATED;VALUE=DATE-TIME:20240205T144002Z
LAST-MODIFIED;VALUE=DATE-TIME:20240205T144012Z
LOCATION:HALL DE ENTRADA DESTA CASA DE LEIS
URL:https://www.goiania.go.leg.br/sala-de-imprensa/eventos/exposicao-a-art
 e-vive-o-centro
END:VEVENT
BEGIN:VTIMEZONE
TZID:Brazil/East
X-LIC-LOCATION:Brazil/East
BEGIN:STANDARD
DTSTART;VALUE=DATE-TIME:20240217T230000
TZNAME:BRT
TZOFFSETFROM:-0200
TZOFFSETTO:-0300
END:STANDARD
END:VTIMEZONE
END:VCALENDAR
