BEGIN:VCALENDAR
VERSION:2.0
PRODID:-//Plone.org//NONSGML plone.app.event//EN
X-WR-TIMEZONE:Brazil/East
BEGIN:VEVENT
SUMMARY:EXPOAFRO - AFRO-EMPREENDEDORES.
DTSTART;TZID=Brazil/East;VALUE=DATE-TIME:20191205T080000
DTEND;TZID=Brazil/East;VALUE=DATE-TIME:20191205T170000
DTSTAMP;VALUE=DATE-TIME:20260421T141034Z
UID:49fa6b93d5a8470cad25ee7d7402b378@www.goiania.go.leg.br
CONTACT:JOSÉ EDUARDO DA SILVA
CREATED;VALUE=DATE-TIME:20190409T150616Z
LAST-MODIFIED;VALUE=DATE-TIME:20190409T150624Z
LOCATION:HALL DE ENTRADA
URL:https://www.goiania.go.leg.br/sala-de-imprensa/eventos/expoafro-afro-e
 mpreendedores-7
END:VEVENT
BEGIN:VTIMEZONE
TZID:Brazil/East
X-LIC-LOCATION:Brazil/East
BEGIN:DAYLIGHT
DTSTART;VALUE=DATE-TIME:20191020T010000
TZNAME:BRST
TZOFFSETFROM:-0300
TZOFFSETTO:-0200
END:DAYLIGHT
END:VTIMEZONE
END:VCALENDAR
