BEGIN:VCALENDAR
VERSION:2.0
PRODID:-//Plone.org//NONSGML plone.app.event//EN
X-WR-TIMEZONE:Brazil/East
BEGIN:VEVENT
SUMMARY:EXPOAFRO - AFRO-EMPREENDEDORES.
DTSTART;TZID=Brazil/East;VALUE=DATE-TIME:20190703T080000
DTEND;TZID=Brazil/East;VALUE=DATE-TIME:20190703T170000
DTSTAMP;VALUE=DATE-TIME:20260421T140404Z
UID:2429f8ddff1d49808f36cc2b85941aff@www.goiania.go.leg.br
CONTACT:JOSÉ EDUARDO DA SILVA
CREATED;VALUE=DATE-TIME:20190409T150153Z
LAST-MODIFIED;VALUE=DATE-TIME:20190409T150203Z
LOCATION:HALL DE ENTRADA
URL:https://www.goiania.go.leg.br/sala-de-imprensa/eventos/expoafro-afro-e
 mpreendedores-2
END:VEVENT
BEGIN:VTIMEZONE
TZID:Brazil/East
X-LIC-LOCATION:Brazil/East
BEGIN:STANDARD
DTSTART;VALUE=DATE-TIME:20190216T230000
TZNAME:BRT
TZOFFSETFROM:-0200
TZOFFSETTO:-0300
END:STANDARD
END:VTIMEZONE
END:VCALENDAR
