BEGIN:VCALENDAR
VERSION:2.0
PRODID:-//Plone.org//NONSGML plone.app.event//EN
X-WR-TIMEZONE:Brazil/East
BEGIN:VEVENT
SUMMARY:EXPLICAÇÃO E ATIVAÇÃO DE BOLSAS DE ESTUDO GRATUITAS AOS CIDAD
 ÃOS GOIANIENSES.
DTSTART;TZID=Brazil/East;VALUE=DATE-TIME:20180303T100000
DTEND;TZID=Brazil/East;VALUE=DATE-TIME:20180303T140000
DTSTAMP;VALUE=DATE-TIME:20260423T082729Z
UID:1b4404e8cb964cf99671573d35c1e6e5@www.goiania.go.leg.br
CONTACT:VEREADOR ANSELMO PEREIRA
CREATED;VALUE=DATE-TIME:20180219T142528Z
LAST-MODIFIED;VALUE=DATE-TIME:20180219T142536Z
LOCATION:AUDITÓRIO CARLOS EURICO
URL:https://www.goiania.go.leg.br/sala-de-imprensa/eventos/explicacao-e-at
 ivacao-de-bolsas-de-estudo-gratuitas-aos-cidadaos-goianienses
END:VEVENT
BEGIN:VTIMEZONE
TZID:Brazil/East
X-LIC-LOCATION:Brazil/East
BEGIN:STANDARD
DTSTART;VALUE=DATE-TIME:20180217T230000
TZNAME:BRT
TZOFFSETFROM:-0200
TZOFFSETTO:-0300
END:STANDARD
END:VTIMEZONE
END:VCALENDAR
