BEGIN:VCALENDAR
VERSION:2.0
PRODID:-//Plone.org//NONSGML plone.app.event//EN
X-WR-TIMEZONE:Brazil/East
BEGIN:VEVENT
SUMMARY:EVENTO MULHER COMBATIVA.
DTSTART;TZID=Brazil/East;VALUE=DATE-TIME:20190312T140000
DTEND;TZID=Brazil/East;VALUE=DATE-TIME:20190312T180000
DTSTAMP;VALUE=DATE-TIME:20260423T082517Z
UID:57d7882281ea4286a943589c0d7ecdb9@www.goiania.go.leg.br
CONTACT:VEREADORA TATIANA LEMOS
CREATED;VALUE=DATE-TIME:20190214T122029Z
LAST-MODIFIED;VALUE=DATE-TIME:20190308T130441Z
LOCATION:AUDITÓRIO JAIME CÂMARA
URL:https://www.goiania.go.leg.br/sala-de-imprensa/eventos/evento-mulher-c
 ombativa
END:VEVENT
BEGIN:VTIMEZONE
TZID:Brazil/East
X-LIC-LOCATION:Brazil/East
BEGIN:STANDARD
DTSTART;VALUE=DATE-TIME:20190216T230000
TZNAME:BRT
TZOFFSETFROM:-0200
TZOFFSETTO:-0300
END:STANDARD
END:VTIMEZONE
END:VCALENDAR
