BEGIN:VCALENDAR
VERSION:2.0
PRODID:-//Plone.org//NONSGML plone.app.event//EN
X-WR-TIMEZONE:Brazil/East
BEGIN:VEVENT
SUMMARY:EVENTO JUNHO VIOLETA (DIA MUNDIAL DE CONSCIENTIZAÇÃO DA VIOLÊNC
 IA CONTRA A PESSOA IDOSA.
DTSTART;TZID=Brazil/East;VALUE=DATE-TIME:20240612T080000
DTEND;TZID=Brazil/East;VALUE=DATE-TIME:20240612T120000
DTSTAMP;VALUE=DATE-TIME:20260421T054157Z
UID:22311b05018c4500b73de75deaa3a459@www.goiania.go.leg.br
CONTACT:VEREADOR PAULO MAGALHÃES
CREATED;VALUE=DATE-TIME:20240605T140347Z
LAST-MODIFIED;VALUE=DATE-TIME:20240605T140404Z
LOCATION:AUDITÓRIO CARLOS EURICO
URL:https://www.goiania.go.leg.br/sala-de-imprensa/eventos/evento-junho-vi
 oleta-dia-mundial-de-conscientizacao-da-violencia-contra-a-pessoa-idosa
END:VEVENT
BEGIN:VTIMEZONE
TZID:Brazil/East
X-LIC-LOCATION:Brazil/East
BEGIN:STANDARD
DTSTART;VALUE=DATE-TIME:20240217T230000
TZNAME:BRT
TZOFFSETFROM:-0200
TZOFFSETTO:-0300
END:STANDARD
END:VTIMEZONE
END:VCALENDAR
