BEGIN:VCALENDAR
VERSION:2.0
PRODID:-//Plone.org//NONSGML plone.app.event//EN
X-WR-TIMEZONE:Brazil/East
BEGIN:VEVENT
SUMMARY:EVENTO EDUCATIVO COM OS ALUNOS DA TERCEIRA  SÉRIE DO ENSINO MÉDI
 O\, PROMOVIDO PELO COLÉGIO SHALLON DA UNIDADE GOIÂNIA II.
DTSTART;TZID=Brazil/East;VALUE=DATE-TIME:20241119T133000
DTEND;TZID=Brazil/East;VALUE=DATE-TIME:20241119T160000
DTSTAMP;VALUE=DATE-TIME:20260419T120941Z
UID:e02b9ea64dcb48259eeb492135d752fa@www.goiania.go.leg.br
CONTACT:VEREADOR PEDRO AZULÃO JR.
CREATED;VALUE=DATE-TIME:20241029T143854Z
LAST-MODIFIED;VALUE=DATE-TIME:20241029T143901Z
LOCATION:PLENÁRIO TRAJANO GUIMARÃES
URL:https://www.goiania.go.leg.br/sala-de-imprensa/eventos/evento-educativ
 o-com-os-alunos-da-terceira-serie-do-ensino-medio-promovido-pelo-colegio-s
 hallon-da-unidade-goiania-ii
END:VEVENT
BEGIN:VTIMEZONE
TZID:Brazil/East
X-LIC-LOCATION:Brazil/East
BEGIN:DAYLIGHT
DTSTART;VALUE=DATE-TIME:20241020T010000
TZNAME:BRST
TZOFFSETFROM:-0300
TZOFFSETTO:-0200
END:DAYLIGHT
END:VTIMEZONE
END:VCALENDAR
