BEGIN:VCALENDAR
VERSION:2.0
PRODID:-//Plone.org//NONSGML plone.app.event//EN
X-WR-TIMEZONE:Brazil/East
BEGIN:VEVENT
SUMMARY:EVENTO DO CONSELHO MUNICIPAL DE EDUCAÇÃO.
DTSTART;TZID=Brazil/East;VALUE=DATE-TIME:20191017T130000
DTEND;TZID=Brazil/East;VALUE=DATE-TIME:20191017T180000
DTSTAMP;VALUE=DATE-TIME:20260421T141150Z
UID:4b1c63200862410899cf5ed4fc6f19c3@www.goiania.go.leg.br
CONTACT:VEREADOR OSÉIAS VARÃO
CREATED;VALUE=DATE-TIME:20190816T221037Z
LAST-MODIFIED;VALUE=DATE-TIME:20190822T102339Z
LOCATION:AUDITÓRIO JAIME CÂMARA
URL:https://www.goiania.go.leg.br/sala-de-imprensa/eventos/evento-do-conse
 lho-municipal-de-educacao
END:VEVENT
BEGIN:VTIMEZONE
TZID:Brazil/East
X-LIC-LOCATION:Brazil/East
BEGIN:STANDARD
DTSTART;VALUE=DATE-TIME:20190216T230000
TZNAME:BRT
TZOFFSETFROM:-0200
TZOFFSETTO:-0300
END:STANDARD
END:VTIMEZONE
END:VCALENDAR
