BEGIN:VCALENDAR
VERSION:2.0
PRODID:-//Plone.org//NONSGML plone.app.event//EN
X-WR-TIMEZONE:Brazil/East
BEGIN:VEVENT
SUMMARY:EVENTO DE ENCERRAMENTO DO ANO DO TRIBUNAL  DE CONTAS DOS MUNICÍPI
 OS DO ESTADO DE GOIÁS.
DTSTART;TZID=Brazil/East;VALUE=DATE-TIME:20181218T080000
DTEND;TZID=Brazil/East;VALUE=DATE-TIME:20181218T130000
DTSTAMP;VALUE=DATE-TIME:20260421T125015Z
UID:eed211fc8c7e48be90c19f7813331ba5@www.goiania.go.leg.br
CONTACT:CONS. JOAQUIM ALVES DE CASTRO NETO
CREATED;VALUE=DATE-TIME:20181128T091536Z
LAST-MODIFIED;VALUE=DATE-TIME:20181128T091543Z
LOCATION:AUDITÓRIO JAIME CÂMARA
URL:https://www.goiania.go.leg.br/sala-de-imprensa/eventos/evento-de-encer
 ramento-do-ano-do-tribunal-de-contas-dos-municipios-do-estado-de-goias
END:VEVENT
BEGIN:VTIMEZONE
TZID:Brazil/East
X-LIC-LOCATION:Brazil/East
BEGIN:DAYLIGHT
DTSTART;VALUE=DATE-TIME:20181021T010000
TZNAME:BRST
TZOFFSETFROM:-0300
TZOFFSETTO:-0200
END:DAYLIGHT
END:VTIMEZONE
END:VCALENDAR
