BEGIN:VCALENDAR
VERSION:2.0
PRODID:-//Plone.org//NONSGML plone.app.event//EN
X-WR-TIMEZONE:Brazil/East
BEGIN:VEVENT
SUMMARY:REUNIÃO DO GABINETE.
DTSTART;TZID=Brazil/East;VALUE=DATE-TIME:20250522T123000
DTEND;TZID=Brazil/East;VALUE=DATE-TIME:20250522T180000
DTSTAMP;VALUE=DATE-TIME:20260420T045945Z
UID:8a55db24f41b4febb03378e21822ad7b@www.goiania.go.leg.br
CONTACT:VEREADOR CORONEL URZEDA
CREATED;VALUE=DATE-TIME:20250522T124122Z
LAST-MODIFIED;VALUE=DATE-TIME:20250522T124247Z
LOCATION:SALA DE REUNIÃO DAS COMISSÕES
URL:https://www.goiania.go.leg.br/sala-de-imprensa/eventos/event.2025-05-2
 2.6233534949
END:VEVENT
BEGIN:VTIMEZONE
TZID:Brazil/East
X-LIC-LOCATION:Brazil/East
BEGIN:STANDARD
DTSTART;VALUE=DATE-TIME:20250215T230000
TZNAME:BRT
TZOFFSETFROM:-0200
TZOFFSETTO:-0300
END:STANDARD
END:VTIMEZONE
END:VCALENDAR
