BEGIN:VCALENDAR
VERSION:2.0
PRODID:-//Plone.org//NONSGML plone.app.event//EN
X-WR-TIMEZONE:Brazil/East
BEGIN:VEVENT
SUMMARY:REUNIÃO DO  GABINETE
DTSTART;TZID=Brazil/East;VALUE=DATE-TIME:20250307T090000
DTEND;TZID=Brazil/East;VALUE=DATE-TIME:20250307T120000
DTSTAMP;VALUE=DATE-TIME:20260423T131117Z
UID:41786f8cde95419caf12fb3ea89a044c@www.goiania.go.leg.br
CONTACT:VEREADOR IGOR FRANCO
CREATED;VALUE=DATE-TIME:20250306T135058Z
LAST-MODIFIED;VALUE=DATE-TIME:20250306T135117Z
LOCATION:SALA DE REUNIÃO DA PRESIDÊNCIA
URL:https://www.goiania.go.leg.br/sala-de-imprensa/eventos/event.2025-03-0
 6.9629929481
END:VEVENT
BEGIN:VTIMEZONE
TZID:Brazil/East
X-LIC-LOCATION:Brazil/East
BEGIN:STANDARD
DTSTART;VALUE=DATE-TIME:20250215T230000
TZNAME:BRT
TZOFFSETFROM:-0200
TZOFFSETTO:-0300
END:STANDARD
END:VTIMEZONE
END:VCALENDAR
