BEGIN:VCALENDAR
VERSION:2.0
PRODID:-//Plone.org//NONSGML plone.app.event//EN
X-WR-TIMEZONE:Brazil/East
BEGIN:VEVENT
SUMMARY:REUNIÃO DO GABINETE.
DTSTART;TZID=Brazil/East;VALUE=DATE-TIME:20241205T083000
DTEND;TZID=Brazil/East;VALUE=DATE-TIME:20241205T120000
DTSTAMP;VALUE=DATE-TIME:20260423T131048Z
UID:fc7ff3bd2aab4a2a8acc4e283a8ad5ae@www.goiania.go.leg.br
CONTACT:VEREADOR ANDERSON SALES
CREATED;VALUE=DATE-TIME:20241129T122302Z
LAST-MODIFIED;VALUE=DATE-TIME:20241129T122317Z
LOCATION:AUDITÓRIO CARLOS EURICO
URL:https://www.goiania.go.leg.br/sala-de-imprensa/eventos/event.2024-11-2
 9.9388529661
END:VEVENT
BEGIN:VTIMEZONE
TZID:Brazil/East
X-LIC-LOCATION:Brazil/East
BEGIN:DAYLIGHT
DTSTART;VALUE=DATE-TIME:20241020T010000
TZNAME:BRST
TZOFFSETFROM:-0300
TZOFFSETTO:-0200
END:DAYLIGHT
END:VTIMEZONE
END:VCALENDAR
