BEGIN:VCALENDAR
VERSION:2.0
PRODID:-//Plone.org//NONSGML plone.app.event//EN
X-WR-TIMEZONE:Brazil/East
BEGIN:VEVENT
SUMMARY:ENTREVISTAS DOS PROCESSOS SELETIVOS DE ESTÁGIO DO CIEE.
DTSTART;TZID=Brazil/East;VALUE=DATE-TIME:20231218T090000
DTEND;TZID=Brazil/East;VALUE=DATE-TIME:20231220T130000
DTSTAMP;VALUE=DATE-TIME:20260419T104631Z
UID:bbff7faa9adc4a0fbcdccda35f6921f7@www.goiania.go.leg.br
CONTACT:WILLIAN CARDOSO DA SILVA JÚNIOR
CREATED;VALUE=DATE-TIME:20231219T132552Z
LAST-MODIFIED;VALUE=DATE-TIME:20231219T132608Z
LOCATION:SALA DE REUNIÃO DA PRESIDÊNCIA
URL:https://www.goiania.go.leg.br/sala-de-imprensa/eventos/entrevistas-dos
 -processos-seletivos-de-estagio-do-ciee
END:VEVENT
BEGIN:VTIMEZONE
TZID:Brazil/East
X-LIC-LOCATION:Brazil/East
BEGIN:DAYLIGHT
DTSTART;VALUE=DATE-TIME:20231015T010000
TZNAME:BRST
TZOFFSETFROM:-0300
TZOFFSETTO:-0200
END:DAYLIGHT
END:VTIMEZONE
END:VCALENDAR
