BEGIN:VCALENDAR
VERSION:2.0
PRODID:-//Plone.org//NONSGML plone.app.event//EN
X-WR-TIMEZONE:Brazil/East
BEGIN:VEVENT
SUMMARY:ENTREGA DO PRÊMIO ATITUDE CIDADÃ GOIÂNIA.
DTSTART;TZID=Brazil/East;VALUE=DATE-TIME:20220405T143000
DTEND;TZID=Brazil/East;VALUE=DATE-TIME:20220405T180000
DTSTAMP;VALUE=DATE-TIME:20260419T093935Z
UID:ead48c9faacf41b6ba9ff9376311ba4e@www.goiania.go.leg.br
CONTACT:VEREADOR LUCAS KITÃO
CREATED;VALUE=DATE-TIME:20220316T134730Z
LAST-MODIFIED;VALUE=DATE-TIME:20220316T134742Z
LOCATION:AUDITÓRIO CARLOS EURICO
URL:https://www.goiania.go.leg.br/sala-de-imprensa/eventos/entrega-do-prem
 io-atitude-cidada-goiania
END:VEVENT
BEGIN:VTIMEZONE
TZID:Brazil/East
X-LIC-LOCATION:Brazil/East
BEGIN:STANDARD
DTSTART;VALUE=DATE-TIME:20220219T230000
TZNAME:BRT
TZOFFSETFROM:-0200
TZOFFSETTO:-0300
END:STANDARD
END:VTIMEZONE
END:VCALENDAR
