BEGIN:VCALENDAR
VERSION:2.0
PRODID:-//Plone.org//NONSGML plone.app.event//EN
X-WR-TIMEZONE:Brazil/East
BEGIN:VEVENT
SUMMARY:ENTREGA DE PRÊMIO DOM TOMÁS BALDUÍNO DE DIREITOS HUMANOS.
DTSTART;TZID=Brazil/East;VALUE=DATE-TIME:20241206T190000
DTEND;TZID=Brazil/East;VALUE=DATE-TIME:20241206T220000
DTSTAMP;VALUE=DATE-TIME:20260420T041237Z
UID:e7ec7c04bac84f5b9a554d6bfe8511ac@www.goiania.go.leg.br
CONTACT:VEREADOR FABRICIO ROSA
CREATED;VALUE=DATE-TIME:20241127T152115Z
LAST-MODIFIED;VALUE=DATE-TIME:20241129T122722Z
LOCATION:AUDITÓRIO CARLOS EURICO
URL:https://www.goiania.go.leg.br/sala-de-imprensa/eventos/entrega-de-prem
 io-dom-tomas-balduino-de-direitos-humanos
END:VEVENT
BEGIN:VTIMEZONE
TZID:Brazil/East
X-LIC-LOCATION:Brazil/East
BEGIN:DAYLIGHT
DTSTART;VALUE=DATE-TIME:20241020T010000
TZNAME:BRST
TZOFFSETFROM:-0300
TZOFFSETTO:-0200
END:DAYLIGHT
END:VTIMEZONE
END:VCALENDAR
