BEGIN:VCALENDAR
VERSION:2.0
PRODID:-//Plone.org//NONSGML plone.app.event//EN
X-WR-TIMEZONE:Brazil/East
BEGIN:VEVENT
SUMMARY:ENTREGA DE PREMIAÇÃO AOS ALUNOS DA REDE PÚBLICA E ESTADUAL DE E
 NSINO 2024.
DTSTART;TZID=Brazil/East;VALUE=DATE-TIME:20241120T170000
DTEND;TZID=Brazil/East;VALUE=DATE-TIME:20241120T190000
DTSTAMP;VALUE=DATE-TIME:20260421T125007Z
UID:74d5432765a8411a8c63530d3843dbda@www.goiania.go.leg.br
CONTACT:VEREADOR BESSA
CREATED;VALUE=DATE-TIME:20241007T124959Z
LAST-MODIFIED;VALUE=DATE-TIME:20241007T125011Z
LOCATION:AUDITÓRIO JAIME CÂMARA
URL:https://www.goiania.go.leg.br/sala-de-imprensa/eventos/entrega-de-prem
 iacao-aos-alunos-da-rede-publica-e-estadual-de-ensino-2024-1
END:VEVENT
BEGIN:VTIMEZONE
TZID:Brazil/East
X-LIC-LOCATION:Brazil/East
BEGIN:DAYLIGHT
DTSTART;VALUE=DATE-TIME:20241020T010000
TZNAME:BRST
TZOFFSETFROM:-0300
TZOFFSETTO:-0200
END:DAYLIGHT
END:VTIMEZONE
END:VCALENDAR
