BEGIN:VCALENDAR
VERSION:2.0
PRODID:-//Plone.org//NONSGML plone.app.event//EN
X-WR-TIMEZONE:Brazil/East
BEGIN:VEVENT
SUMMARY:ENTREGA DE DIPLOMAS DE HONRA AO MÉRITO.
DTSTART;TZID=Brazil/East;VALUE=DATE-TIME:20211026T143000
DTEND;TZID=Brazil/East;VALUE=DATE-TIME:20211026T153000
DTSTAMP;VALUE=DATE-TIME:20260421T112053Z
UID:9e392d230fa54a319bcdfacb9e748c5c@www.goiania.go.leg.br
CONTACT:VEREADOR RONILSON REIS
CREATED;VALUE=DATE-TIME:20211025T143155Z
LAST-MODIFIED;VALUE=DATE-TIME:20211025T143314Z
LOCATION:SALA DE REUNIÃO DA PRESIDÊNCIA
URL:https://www.goiania.go.leg.br/sala-de-imprensa/eventos/entrega-de-dipl
 omas-de-honra-ao-merito
END:VEVENT
BEGIN:VTIMEZONE
TZID:Brazil/East
X-LIC-LOCATION:Brazil/East
BEGIN:DAYLIGHT
DTSTART;VALUE=DATE-TIME:20211017T010000
TZNAME:BRST
TZOFFSETFROM:-0300
TZOFFSETTO:-0200
END:DAYLIGHT
END:VTIMEZONE
END:VCALENDAR
