BEGIN:VCALENDAR
VERSION:2.0
PRODID:-//Plone.org//NONSGML plone.app.event//EN
X-WR-TIMEZONE:Brazil/East
BEGIN:VEVENT
SUMMARY:ENTREGA DE DIPLOMAS DE HONRA AO MÉRITO.
DTSTART;TZID=Brazil/East;VALUE=DATE-TIME:20220310T110000
DTEND;TZID=Brazil/East;VALUE=DATE-TIME:20220310T120000
DTSTAMP;VALUE=DATE-TIME:20260421T030212Z
UID:0750cd4e119840ed8221342f8d46f2aa@www.goiania.go.leg.br
CONTACT:VEREADOR WILLIAN VELOSO
CREATED;VALUE=DATE-TIME:20220308T103732Z
LAST-MODIFIED;VALUE=DATE-TIME:20220308T103738Z
LOCATION:SALA DE REUNIÃO DA PRESIDÊNCIA
URL:https://www.goiania.go.leg.br/sala-de-imprensa/eventos/entrega-de-dipl
 omas-de-honra-ao-merito-2
END:VEVENT
BEGIN:VTIMEZONE
TZID:Brazil/East
X-LIC-LOCATION:Brazil/East
BEGIN:STANDARD
DTSTART;VALUE=DATE-TIME:20220219T230000
TZNAME:BRT
TZOFFSETFROM:-0200
TZOFFSETTO:-0300
END:STANDARD
END:VTIMEZONE
END:VCALENDAR
