BEGIN:VCALENDAR
VERSION:2.0
PRODID:-//Plone.org//NONSGML plone.app.event//EN
X-WR-TIMEZONE:Brazil/East
BEGIN:VEVENT
SUMMARY:ENTREGA DE CERTIFICADOS PARA MISS E MISTER.
DTSTART;TZID=Brazil/East;VALUE=DATE-TIME:20210916T080000
DTEND;TZID=Brazil/East;VALUE=DATE-TIME:20210916T220000
DTSTAMP;VALUE=DATE-TIME:20260419T231300Z
UID:764b4140515c4293b45ad08cfe5c072d@www.goiania.go.leg.br
CONTACT:VEREADOR ANSELMO PEREIRA
CREATED;VALUE=DATE-TIME:20210824T140727Z
LAST-MODIFIED;VALUE=DATE-TIME:20210824T140738Z
LOCATION:AUDITÓRIO CARLOS EURICO
URL:https://www.goiania.go.leg.br/sala-de-imprensa/eventos/entrega-de-cert
 ificados-para-miss-e-mister
END:VEVENT
BEGIN:VTIMEZONE
TZID:Brazil/East
X-LIC-LOCATION:Brazil/East
BEGIN:STANDARD
DTSTART;VALUE=DATE-TIME:20210220T230000
TZNAME:BRT
TZOFFSETFROM:-0200
TZOFFSETTO:-0300
END:STANDARD
END:VTIMEZONE
END:VCALENDAR
