BEGIN:VCALENDAR
VERSION:2.0
PRODID:-//Plone.org//NONSGML plone.app.event//EN
X-WR-TIMEZONE:Brazil/East
BEGIN:VEVENT
SUMMARY:ENTREGA DA MEDALHA PEDRO LUDOVICO TEIXEIRA  AO EMBAIXADOR DE ISRAE
 L  SENHOR DANIEL ZOHAR ZONSHINE. 
DTSTART;TZID=Brazil/East;VALUE=DATE-TIME:20230309T080000
DTEND;TZID=Brazil/East;VALUE=DATE-TIME:20230309T180000
DTSTAMP;VALUE=DATE-TIME:20260421T112347Z
UID:a06063531d074c45bb7518c520041418@www.goiania.go.leg.br
CONTACT:VEREADOR RONILSON REIS
CREATED;VALUE=DATE-TIME:20230303T113510Z
LAST-MODIFIED;VALUE=DATE-TIME:20230303T113542Z
LOCATION:FORA DA CÂMARA
URL:https://www.goiania.go.leg.br/sala-de-imprensa/eventos/entrega-da-meda
 lha-pedro-ludovico-teixeira-ao-embaixador-de-israel-senhor-daniel-zohar-zo
 nshine
END:VEVENT
BEGIN:VTIMEZONE
TZID:Brazil/East
X-LIC-LOCATION:Brazil/East
BEGIN:STANDARD
DTSTART;VALUE=DATE-TIME:20230225T230000
TZNAME:BRT
TZOFFSETFROM:-0200
TZOFFSETTO:-0300
END:STANDARD
END:VTIMEZONE
END:VCALENDAR
