BEGIN:VCALENDAR
VERSION:2.0
PRODID:-//Plone.org//NONSGML plone.app.event//EN
X-WR-TIMEZONE:Brazil/East
BEGIN:VEVENT
SUMMARY:ENSAIO DO EVENTO UNIVERSOPLUSGO.
DTSTART;TZID=Brazil/East;VALUE=DATE-TIME:20190910T180000
DTEND;TZID=Brazil/East;VALUE=DATE-TIME:20190910T220000
DTSTAMP;VALUE=DATE-TIME:20260421T111856Z
UID:4bc90f07a0ae42abb16d471ace47110a@www.goiania.go.leg.br
CONTACT:VEREADORA TATIANA LEMOS
CREATED;VALUE=DATE-TIME:20190905T125520Z
LAST-MODIFIED;VALUE=DATE-TIME:20190905T125526Z
LOCATION:AUDITÓRIO JAIME CÂMARA
URL:https://www.goiania.go.leg.br/sala-de-imprensa/eventos/ensaio-do-event
 o-universoplusgo
END:VEVENT
BEGIN:VTIMEZONE
TZID:Brazil/East
X-LIC-LOCATION:Brazil/East
BEGIN:STANDARD
DTSTART;VALUE=DATE-TIME:20190216T230000
TZNAME:BRT
TZOFFSETFROM:-0200
TZOFFSETTO:-0300
END:STANDARD
END:VTIMEZONE
END:VCALENDAR
