BEGIN:VCALENDAR
VERSION:2.0
PRODID:-//Plone.org//NONSGML plone.app.event//EN
X-WR-TIMEZONE:Brazil/East
BEGIN:VEVENT
SUMMARY:ENSAIO DO EVENTO UNIVERSOPLUSGO.
DTSTART;TZID=Brazil/East;VALUE=DATE-TIME:20191023T170000
DTEND;TZID=Brazil/East;VALUE=DATE-TIME:20191023T220000
DTSTAMP;VALUE=DATE-TIME:20260421T111921Z
UID:bee929485f2149d5bed6bf3c08e21722@www.goiania.go.leg.br
CONTACT:VEREADORA TATIANA LEMOS
CREATED;VALUE=DATE-TIME:20190930T150142Z
LAST-MODIFIED;VALUE=DATE-TIME:20190930T150147Z
LOCATION:AUDITÓRIO JAIME CÂMARA
URL:https://www.goiania.go.leg.br/sala-de-imprensa/eventos/ensaio-do-event
 o-universoplusgo-6
END:VEVENT
BEGIN:VTIMEZONE
TZID:Brazil/East
X-LIC-LOCATION:Brazil/East
BEGIN:DAYLIGHT
DTSTART;VALUE=DATE-TIME:20191020T010000
TZNAME:BRST
TZOFFSETFROM:-0300
TZOFFSETTO:-0200
END:DAYLIGHT
END:VTIMEZONE
END:VCALENDAR
