BEGIN:VCALENDAR
VERSION:2.0
PRODID:-//Plone.org//NONSGML plone.app.event//EN
X-WR-TIMEZONE:Brazil/East
BEGIN:VEVENT
SUMMARY:ENSAIO DA PEÇA "SOMOS TÃO JOVENS".
DTSTART;TZID=Brazil/East;VALUE=DATE-TIME:20250911T080000
DTEND;TZID=Brazil/East;VALUE=DATE-TIME:20250912T120000
DTSTAMP;VALUE=DATE-TIME:20260419T104508Z
UID:8017e92988fb451887283c39671e2668@www.goiania.go.leg.br
CONTACT:VEREADOR FABRICIO ROSA
CREATED;VALUE=DATE-TIME:20250908T121139Z
LAST-MODIFIED;VALUE=DATE-TIME:20250908T121228Z
LOCATION:AUDITÓRIO JAIME CÂMARA
URL:https://www.goiania.go.leg.br/sala-de-imprensa/eventos/ensaio-da-peca-
 somos-tao-jovens-3
END:VEVENT
BEGIN:VTIMEZONE
TZID:Brazil/East
X-LIC-LOCATION:Brazil/East
BEGIN:STANDARD
DTSTART;VALUE=DATE-TIME:20250215T230000
TZNAME:BRT
TZOFFSETFROM:-0200
TZOFFSETTO:-0300
END:STANDARD
END:VTIMEZONE
END:VCALENDAR
